BEGIN:VCALENDAR
VERSION:2.0
PRODID:-//Frieda-Glücksmann-Oberschule - ECPv6.15.20//NONSGML v1.0//EN
CALSCALE:GREGORIAN
METHOD:PUBLISH
X-WR-CALNAME:Frieda-Glücksmann-Oberschule
X-ORIGINAL-URL:https://frieda-gluecksmann-oberschule.de
X-WR-CALDESC:Veranstaltungen für Frieda-Glücksmann-Oberschule
REFRESH-INTERVAL;VALUE=DURATION:PT1H
X-Robots-Tag:noindex
X-PUBLISHED-TTL:PT1H
BEGIN:VTIMEZONE
TZID:Europe/Berlin
BEGIN:DAYLIGHT
TZOFFSETFROM:+0100
TZOFFSETTO:+0200
TZNAME:CEST
DTSTART:20210328T010000
END:DAYLIGHT
BEGIN:STANDARD
TZOFFSETFROM:+0200
TZOFFSETTO:+0100
TZNAME:CET
DTSTART:20211031T010000
END:STANDARD
BEGIN:DAYLIGHT
TZOFFSETFROM:+0100
TZOFFSETTO:+0200
TZNAME:CEST
DTSTART:20220327T010000
END:DAYLIGHT
BEGIN:STANDARD
TZOFFSETFROM:+0200
TZOFFSETTO:+0100
TZNAME:CET
DTSTART:20221030T010000
END:STANDARD
BEGIN:DAYLIGHT
TZOFFSETFROM:+0100
TZOFFSETTO:+0200
TZNAME:CEST
DTSTART:20230326T010000
END:DAYLIGHT
BEGIN:STANDARD
TZOFFSETFROM:+0200
TZOFFSETTO:+0100
TZNAME:CET
DTSTART:20231029T010000
END:STANDARD
END:VTIMEZONE
BEGIN:VEVENT
DTSTART;VALUE=DATE:20220707
DTEND;VALUE=DATE:20220822
DTSTAMP:20260424T204757
CREATED:20220627T150406Z
LAST-MODIFIED:20220627T150406Z
UID:9747-1657152000-1661126399@frieda-gluecksmann-oberschule.de
SUMMARY:Sommerferien
DESCRIPTION:
URL:https://frieda-gluecksmann-oberschule.de/termin/sommerferien/
ATTACH;FMTTYPE=image/jpeg:https://frieda-gluecksmann-oberschule.de/wp-content/uploads/sommer.jpg
END:VEVENT
BEGIN:VEVENT
DTSTART;TZID=Europe/Berlin:20220822T080000
DTEND;TZID=Europe/Berlin:20220822T090000
DTSTAMP:20260424T204757
CREATED:20220821T115140Z
LAST-MODIFIED:20220821T115141Z
UID:9846-1661155200-1661158800@frieda-gluecksmann-oberschule.de
SUMMARY:Willkommensveranstaltung
DESCRIPTION:Willkommensveranstaltung für die 7.Klassen
URL:https://frieda-gluecksmann-oberschule.de/termin/willkommensveranstaltung/
LOCATION:Frieda-Glücksmann-Oberschule\, Mühlenbecker Weg 9 L\, Oranienburg\, 16515
ATTACH;FMTTYPE=image/jpeg:https://frieda-gluecksmann-oberschule.de/wp-content/uploads/Willkommen.jpg
END:VEVENT
BEGIN:VEVENT
DTSTART;TZID=Europe/Berlin:20220829T180000
DTEND;TZID=Europe/Berlin:20220829T193000
DTSTAMP:20260424T204757
CREATED:20220829T134237Z
LAST-MODIFIED:20220829T134301Z
UID:9865-1661796000-1661801400@frieda-gluecksmann-oberschule.de
SUMMARY:Elternabende  7.Jahrgang
DESCRIPTION:Elternabende der Klassenstufe 7
URL:https://frieda-gluecksmann-oberschule.de/termin/elternabend/
LOCATION:Frieda-Glücksmann-Oberschule\, Mühlenbecker Weg 9 L\, Oranienburg\, 16515
ATTACH;FMTTYPE=image/jpeg:https://frieda-gluecksmann-oberschule.de/wp-content/uploads/classroom-g409d6c2a0_1920.jpg
END:VEVENT
END:VCALENDAR