BEGIN:VCALENDAR
VERSION:2.0
PRODID:-//Frieda-Glücksmann-Oberschule - ECPv6.15.20//NONSGML v1.0//EN
CALSCALE:GREGORIAN
METHOD:PUBLISH
X-WR-CALNAME:Frieda-Glücksmann-Oberschule
X-ORIGINAL-URL:https://frieda-gluecksmann-oberschule.de
X-WR-CALDESC:Veranstaltungen für Frieda-Glücksmann-Oberschule
REFRESH-INTERVAL;VALUE=DURATION:PT1H
X-Robots-Tag:noindex
X-PUBLISHED-TTL:PT1H
BEGIN:VTIMEZONE
TZID:Europe/Berlin
BEGIN:DAYLIGHT
TZOFFSETFROM:+0100
TZOFFSETTO:+0200
TZNAME:CEST
DTSTART:20210328T010000
END:DAYLIGHT
BEGIN:STANDARD
TZOFFSETFROM:+0200
TZOFFSETTO:+0100
TZNAME:CET
DTSTART:20211031T010000
END:STANDARD
BEGIN:DAYLIGHT
TZOFFSETFROM:+0100
TZOFFSETTO:+0200
TZNAME:CEST
DTSTART:20220327T010000
END:DAYLIGHT
BEGIN:STANDARD
TZOFFSETFROM:+0200
TZOFFSETTO:+0100
TZNAME:CET
DTSTART:20221030T010000
END:STANDARD
BEGIN:DAYLIGHT
TZOFFSETFROM:+0100
TZOFFSETTO:+0200
TZNAME:CEST
DTSTART:20230326T010000
END:DAYLIGHT
BEGIN:STANDARD
TZOFFSETFROM:+0200
TZOFFSETTO:+0100
TZNAME:CET
DTSTART:20231029T010000
END:STANDARD
END:VTIMEZONE
BEGIN:VEVENT
DTSTART;VALUE=DATE:20220601
DTEND;VALUE=DATE:20220604
DTSTAMP:20260425T002533
CREATED:20220508T071408Z
LAST-MODIFIED:20220508T071408Z
UID:9468-1654041600-1654300799@frieda-gluecksmann-oberschule.de
SUMMARY:Klassenfahrt Klasse 7/2
DESCRIPTION:
URL:https://frieda-gluecksmann-oberschule.de/termin/klassenfahrt-klasse-7-2/
END:VEVENT
BEGIN:VEVENT
DTSTART;VALUE=DATE:20220602
DTEND;VALUE=DATE:20220603
DTSTAMP:20260425T002533
CREATED:20220508T071939Z
LAST-MODIFIED:20220508T072214Z
UID:9470-1654128000-1654214399@frieda-gluecksmann-oberschule.de
SUMMARY:Mentale Gesundheit und Du - Klasse 7.3
DESCRIPTION:  \nJedes fünfte Kind leidet unter emotionalen Belastungen¹ – seit der Coronapandemie ist sogar jedes Dritte². Mit unseren Schulworkshops fördern wir Schüler*innen in ihren psychosozialen Kompetenzen\, basierend auf dem Konzept der WHO Lebenskompetenzen. So leisten wir Präventions- und Aufklärungsarbeit über psychische Gesundheit und stärken Jugendliche in ihrer Resilienz und ihrem sozialen Miteinander.\nAls Kontext wählen wir Themen\, die Jugendliche bewegen\, aber im Lehrplan unterrepräsentiert sind. Dadurch schaffen wir einen spannenden Projekttag für Jugendliche und fördern sie gleichzeitig in ihrer Persönlichkeitsentwicklung. Die Workshops bietet außerdem die Gelegenheit die Klassengemeinschaft zu stärken. \n\n\nZielgruppe: Schulklassen des 7.-10. Jahrgangs \n\nWorkshopkonzeption: die Formate sind wissenschaftlich fundiert und werden von Psycholog*innen und Pädagog*innen entwickelt und evaluiert\, dabei arbeiten wir u.a. mit dem Deutschen Zentrum für Präventionsforschung und Psychische Gesundheit der Universität Würzburg zusammen\n\nWorkshopleitung: die Formate werden von Psychologie- und Pädagogikstudierenden und Psycholog*innen mit vorheriger Workshopleiter*innenqualifizierung durchgeführt
URL:https://frieda-gluecksmann-oberschule.de/termin/mentale-gesundheit-und-du-klasse-7-3/
LOCATION:Frieda-Glücksmann-Oberschule\, Mühlenbecker Weg 9 L\, Oranienburg\, 16515
ATTACH;FMTTYPE=image/png:https://frieda-gluecksmann-oberschule.de/wp-content/uploads/Dare2Care_Logo_bunt.png
END:VEVENT
BEGIN:VEVENT
DTSTART;VALUE=DATE:20220603
DTEND;VALUE=DATE:20220604
DTSTAMP:20260425T002533
CREATED:20220428T163126Z
LAST-MODIFIED:20220428T163126Z
UID:9417-1654214400-1654300799@frieda-gluecksmann-oberschule.de
SUMMARY:STARK auch ohne Muckis
DESCRIPTION:Gewaltprävention an der OSL für die Klassenstufe 7\n\nKindern helfen Mobbing zu beenden oder gar nicht erst hineinzukommen. \nEs geht darum\, dass die Schüler*Innen unserer Schule respektvoll miteinander umgehen\, sodass mehr Leichtigkeit in den Alltag der Schule zurückkehrt. \n\n\n\n\n\nDas lernen die Kinder u.a. in unseren Kursen: \n\n\n\nmit den fünf Hauptkonflikten (Beleidigungen\, Provokationen\, Wegnahme\, ungewolltes Anpacken\, Gewaltandrohung) umzugehen\, damit nicht nur sie für jede Alltagsherausforderung gewappnet sind\, sondern auch die Erzieher/Lehrer mehr Zeit für andere Aufgaben haben und viel seltener eingreifen müssen.\n\n\n\n\n\n\ndie Kompetenz zu entwickeln selbst zu entscheiden\, welche Meinungen (z. B. Beleidigungen oder abwertende Kommentare) sich zu Herzen genommen werden und welche einfach abprallen können. Dadurch bleibt die Kritikfähigkeit erhalten\, aber Mobbing verletzt nicht mehr.\nstark und selbstsicher zu sein\, ohne andere dafür klein machen zu müssen. Sie werden also zu Menschen\, die andere hochziehen\, anstatt sie runterzudrücken.\nauf die eigenen Gefühle vertrauen\, sie annehmen und regulieren zu können\, um dienlicher mit ihnen umzugehen und das Selbstvertrauen zu steigern.\ndie Gefühle anderer Menschen erkennen und einordnen können. Durch mehr Empathie gehen die Kinder und Jugendlichen respektvoller miteinander um und akzeptieren verschiedene Standpunkte.\nsich zu schützen und resillienter zu werden\, um ein Schutzschild vor Mobbing zu entwickeln.\nStrategien zur Problemlösung zu entwickeln und auf ähnliche Situationen zu übertragen\, um Probleme besser zu meistern und als Chance wahrzunehmen.\n\n 
URL:https://frieda-gluecksmann-oberschule.de/termin/stark-auch-ohne-muckis-2/
LOCATION:Frieda-Glücksmann-Oberschule\, Mühlenbecker Weg 9 L\, Oranienburg\, 16515
ATTACH;FMTTYPE=image/png:https://frieda-gluecksmann-oberschule.de/wp-content/uploads/starkauchohnemuckis-logo-500.png
END:VEVENT
BEGIN:VEVENT
DTSTART;VALUE=DATE:20220603
DTEND;VALUE=DATE:20220604
DTSTAMP:20260425T002533
CREATED:20220508T072038Z
LAST-MODIFIED:20220508T072248Z
UID:9473-1654214400-1654300799@frieda-gluecksmann-oberschule.de
SUMMARY:Mentale Gesundheit und Du - Klasse 8.2
DESCRIPTION:Jedes fünfte Kind leidet unter emotionalen Belastungen¹ – seit der Coronapandemie ist sogar jedes Dritte². Mit unseren Schulworkshops fördern wir Schüler*innen in ihren psychosozialen Kompetenzen\, basierend auf dem Konzept der WHO Lebenskompetenzen. So leisten wir Präventions- und Aufklärungsarbeit über psychische Gesundheit und stärken Jugendliche in ihrer Resilienz und ihrem sozialen Miteinander.\nAls Kontext wählen wir Themen\, die Jugendliche bewegen\, aber im Lehrplan unterrepräsentiert sind. Dadurch schaffen wir einen spannenden Projekttag für Jugendliche und fördern sie gleichzeitig in ihrer Persönlichkeitsentwicklung. Die Workshops bietet außerdem die Gelegenheit die Klassengemeinschaft zu stärken. \n\n\nZielgruppe: Schulklassen des 7.-10. Jahrgangs \n\nWorkshopkonzeption: die Formate sind wissenschaftlich fundiert und werden von Psycholog*innen und Pädagog*innen entwickelt und evaluiert\, dabei arbeiten wir u.a. mit dem Deutschen Zentrum für Präventionsforschung und Psychische Gesundheit der Universität Würzburg zusammen\n\nWorkshopleitung: die Formate werden von Psychologie- und Pädagogikstudierenden und Psycholog*innen mit vorheriger Workshopleiter*innenqualifizierung durchgeführt
URL:https://frieda-gluecksmann-oberschule.de/termin/mentale-gesundheit-und-du-klasse-8-2/
LOCATION:Frieda-Glücksmann-Oberschule\, Mühlenbecker Weg 9 L\, Oranienburg\, 16515
ATTACH;FMTTYPE=image/png:https://frieda-gluecksmann-oberschule.de/wp-content/uploads/Dare2Care_Logo_bunt.png
END:VEVENT
BEGIN:VEVENT
DTSTART;VALUE=DATE:20220617
DTEND;VALUE=DATE:20220620
DTSTAMP:20260425T002533
CREATED:20220511T152810Z
LAST-MODIFIED:20220511T152810Z
UID:9521-1655424000-1655683199@frieda-gluecksmann-oberschule.de
SUMMARY:Drachenbootrennen auf dem Stadtfest in Oranienburg
DESCRIPTION:Am Wochenende 17.06-19.06.2022 findet das Stadtfest in Oranienburg statt. \nAußerdem findet auch endlich wieder das große Drachenbootrennen statt. Als Oranienburger/Lehnitzer Schule ist es ein „Muss“ an diesem Rennen teilzunehmen. \nWir sind gespannt ob die Oberschule Lehnitz teilnimmt
URL:https://frieda-gluecksmann-oberschule.de/termin/drachenbootrennen-auf-dem-stadtfest-in-oranienburg/
LOCATION:Innenstadt Oranienburg\, Schlossplatz 1\, Oranienburg\, Brandenburg\, 16515\, Deutschland
ATTACH;FMTTYPE=image/jpeg:https://frieda-gluecksmann-oberschule.de/wp-content/uploads/dragon-boat-441885_1920.jpg
END:VEVENT
BEGIN:VEVENT
DTSTART;VALUE=DATE:20220623
DTEND;VALUE=DATE:20220624
DTSTAMP:20260425T002533
CREATED:20220508T072144Z
LAST-MODIFIED:20220508T072144Z
UID:9475-1655942400-1656028799@frieda-gluecksmann-oberschule.de
SUMMARY:Mentale Gesundheit und Du - Klasse 8.3
DESCRIPTION:  \nJedes fünfte Kind leidet unter emotionalen Belastungen¹ – seit der Coronapandemie ist sogar jedes Dritte². Mit unseren Schulworkshops fördern wir Schüler*innen in ihren psychosozialen Kompetenzen\, basierend auf dem Konzept der WHO Lebenskompetenzen. So leisten wir Präventions- und Aufklärungsarbeit über psychische Gesundheit und stärken Jugendliche in ihrer Resilienz und ihrem sozialen Miteinander.\nAls Kontext wählen wir Themen\, die Jugendliche bewegen\, aber im Lehrplan unterrepräsentiert sind. Dadurch schaffen wir einen spannenden Projekttag für Jugendliche und fördern sie gleichzeitig in ihrer Persönlichkeitsentwicklung. Die Workshops bietet außerdem die Gelegenheit die Klassengemeinschaft zu stärken. \n\n\nZielgruppe: Schulklassen des 7.-10. Jahrgangs \n\nWorkshopkonzeption: die Formate sind wissenschaftlich fundiert und werden von Psycholog*innen und Pädagog*innen entwickelt und evaluiert\, dabei arbeiten wir u.a. mit dem Deutschen Zentrum für Präventionsforschung und Psychische Gesundheit der Universität Würzburg zusammen\n\nWorkshopleitung: die Formate werden von Psychologie- und Pädagogikstudierenden und Psycholog*innen mit vorheriger Workshopleiter*innenqualifizierung durchgeführt
URL:https://frieda-gluecksmann-oberschule.de/termin/mentale-gesundheit-und-du-klasse-8-3/
LOCATION:Frieda-Glücksmann-Oberschule\, Mühlenbecker Weg 9 L\, Oranienburg\, 16515
ATTACH;FMTTYPE=image/png:https://frieda-gluecksmann-oberschule.de/wp-content/uploads/Dare2Care_Logo_bunt.png
END:VEVENT
BEGIN:VEVENT
DTSTART;VALUE=DATE:20220629
DTEND;VALUE=DATE:20220702
DTSTAMP:20260425T002533
CREATED:20220318T082103Z
LAST-MODIFIED:20220318T102350Z
UID:9344-1656460800-1656719999@frieda-gluecksmann-oberschule.de
SUMMARY:Projekttage der OSL
DESCRIPTION:An den Projekttagen werden in der Schule verschiedenste Projekte für die Schüler*innen angeboten. \nEs gibt\, sportliche\, kreative\, wissenschaftliche\, künstlerische Projekte zum Mitmachen und Gestalten. \nDie Vorstellung der Projektgruppen folgt.
URL:https://frieda-gluecksmann-oberschule.de/termin/projekttage-der-osl/
LOCATION:Frieda-Glücksmann-Oberschule\, Mühlenbecker Weg 9 L\, Oranienburg\, 16515
ATTACH;FMTTYPE=image/jpeg:https://frieda-gluecksmann-oberschule.de/wp-content/uploads/Projekttag.jpg
END:VEVENT
END:VCALENDAR