BEGIN:VCALENDAR
VERSION:2.0
PRODID:-//Frieda-Glücksmann-Oberschule - ECPv6.15.20//NONSGML v1.0//EN
CALSCALE:GREGORIAN
METHOD:PUBLISH
X-ORIGINAL-URL:https://frieda-gluecksmann-oberschule.de
X-WR-CALDESC:Veranstaltungen für Frieda-Glücksmann-Oberschule
REFRESH-INTERVAL;VALUE=DURATION:PT1H
X-Robots-Tag:noindex
X-PUBLISHED-TTL:PT1H
BEGIN:VTIMEZONE
TZID:Europe/Berlin
BEGIN:DAYLIGHT
TZOFFSETFROM:+0100
TZOFFSETTO:+0200
TZNAME:CEST
DTSTART:20210328T010000
END:DAYLIGHT
BEGIN:STANDARD
TZOFFSETFROM:+0200
TZOFFSETTO:+0100
TZNAME:CET
DTSTART:20211031T010000
END:STANDARD
BEGIN:DAYLIGHT
TZOFFSETFROM:+0100
TZOFFSETTO:+0200
TZNAME:CEST
DTSTART:20220327T010000
END:DAYLIGHT
BEGIN:STANDARD
TZOFFSETFROM:+0200
TZOFFSETTO:+0100
TZNAME:CET
DTSTART:20221030T010000
END:STANDARD
BEGIN:DAYLIGHT
TZOFFSETFROM:+0100
TZOFFSETTO:+0200
TZNAME:CEST
DTSTART:20230326T010000
END:DAYLIGHT
BEGIN:STANDARD
TZOFFSETFROM:+0200
TZOFFSETTO:+0100
TZNAME:CET
DTSTART:20231029T010000
END:STANDARD
END:VTIMEZONE
BEGIN:VEVENT
DTSTART;TZID=Europe/Berlin:20220907T180000
DTEND;TZID=Europe/Berlin:20220907T193000
DTSTAMP:20260424T235236
CREATED:20220829T134410Z
LAST-MODIFIED:20220829T134512Z
UID:9870-1662573600-1662579000@frieda-gluecksmann-oberschule.de
SUMMARY:Elternabende 9.Jahrgang
DESCRIPTION:Elternabende 9.Jahrgang
URL:https://frieda-gluecksmann-oberschule.de/termin/elternabende-9-jahrgang/
LOCATION:Frieda-Glücksmann-Oberschule\, Mühlenbecker Weg 9 L\, Oranienburg\, 16515
ATTACH;FMTTYPE=image/jpeg:https://frieda-gluecksmann-oberschule.de/wp-content/uploads/classroom-g409d6c2a0_1920.jpg
END:VEVENT
END:VCALENDAR