BEGIN:VCALENDAR
VERSION:2.0
PRODID:-//Frieda-Glücksmann-Oberschule - ECPv6.15.20//NONSGML v1.0//EN
CALSCALE:GREGORIAN
METHOD:PUBLISH
X-ORIGINAL-URL:https://frieda-gluecksmann-oberschule.de
X-WR-CALDESC:Veranstaltungen für Frieda-Glücksmann-Oberschule
REFRESH-INTERVAL;VALUE=DURATION:PT1H
X-Robots-Tag:noindex
X-PUBLISHED-TTL:PT1H
BEGIN:VTIMEZONE
TZID:Europe/Berlin
BEGIN:DAYLIGHT
TZOFFSETFROM:+0100
TZOFFSETTO:+0200
TZNAME:CEST
DTSTART:20210328T010000
END:DAYLIGHT
BEGIN:STANDARD
TZOFFSETFROM:+0200
TZOFFSETTO:+0100
TZNAME:CET
DTSTART:20211031T010000
END:STANDARD
BEGIN:DAYLIGHT
TZOFFSETFROM:+0100
TZOFFSETTO:+0200
TZNAME:CEST
DTSTART:20220327T010000
END:DAYLIGHT
BEGIN:STANDARD
TZOFFSETFROM:+0200
TZOFFSETTO:+0100
TZNAME:CET
DTSTART:20221030T010000
END:STANDARD
BEGIN:DAYLIGHT
TZOFFSETFROM:+0100
TZOFFSETTO:+0200
TZNAME:CEST
DTSTART:20230326T010000
END:DAYLIGHT
BEGIN:STANDARD
TZOFFSETFROM:+0200
TZOFFSETTO:+0100
TZNAME:CET
DTSTART:20231029T010000
END:STANDARD
END:VTIMEZONE
BEGIN:VEVENT
DTSTART;TZID=Europe/Berlin:20220706T093000
DTEND;TZID=Europe/Berlin:20220706T103000
DTSTAMP:20260425T001944
CREATED:20220627T150519Z
LAST-MODIFIED:20220627T154204Z
UID:9750-1657099800-1657103400@frieda-gluecksmann-oberschule.de
SUMMARY:Schuljahreszeugnisse
DESCRIPTION:
URL:https://frieda-gluecksmann-oberschule.de/termin/schuljahreszeugnisse/
LOCATION:Frieda-Glücksmann-Oberschule\, Mühlenbecker Weg 9 L\, Oranienburg\, 16515
ATTACH;FMTTYPE=image/jpeg:https://frieda-gluecksmann-oberschule.de/wp-content/uploads/Zeugnis.jpg
END:VEVENT
END:VCALENDAR